BEGIN:VCALENDAR
VERSION:2.0
PRODID:-//Ophemert.nl - het dorpsplein van Ophemert - ECPv6.15.20//NONSGML v1.0//EN
CALSCALE:GREGORIAN
METHOD:PUBLISH
X-WR-CALNAME:Ophemert.nl - het dorpsplein van Ophemert
X-ORIGINAL-URL:https://ophemert.nl
X-WR-CALDESC:Evenementen voor Ophemert.nl - het dorpsplein van Ophemert
REFRESH-INTERVAL;VALUE=DURATION:PT1H
X-Robots-Tag:noindex
X-PUBLISHED-TTL:PT1H
BEGIN:VTIMEZONE
TZID:Europe/Amsterdam
BEGIN:DAYLIGHT
TZOFFSETFROM:+0100
TZOFFSETTO:+0200
TZNAME:CEST
DTSTART:20250330T010000
END:DAYLIGHT
BEGIN:STANDARD
TZOFFSETFROM:+0200
TZOFFSETTO:+0100
TZNAME:CET
DTSTART:20251026T010000
END:STANDARD
BEGIN:DAYLIGHT
TZOFFSETFROM:+0100
TZOFFSETTO:+0200
TZNAME:CEST
DTSTART:20260329T010000
END:DAYLIGHT
BEGIN:STANDARD
TZOFFSETFROM:+0200
TZOFFSETTO:+0100
TZNAME:CET
DTSTART:20261025T010000
END:STANDARD
BEGIN:DAYLIGHT
TZOFFSETFROM:+0100
TZOFFSETTO:+0200
TZNAME:CEST
DTSTART:20270328T010000
END:DAYLIGHT
BEGIN:STANDARD
TZOFFSETFROM:+0200
TZOFFSETTO:+0100
TZNAME:CET
DTSTART:20271031T010000
END:STANDARD
END:VTIMEZONE
BEGIN:VEVENT
DTSTART;TZID=Europe/Amsterdam:20260202T204500
DTEND;TZID=Europe/Amsterdam:20260202T220000
DTSTAMP:20260420T042119
CREATED:20260201T181323Z
LAST-MODIFIED:20260201T181323Z
UID:16742-1770065100-1770069600@ophemert.nl
SUMMARY:Volleybal
DESCRIPTION:Kom eens kijken of meld je aan bij: water835@planet.nl
URL:https://ophemert.nl/dorpsagenda/volleybal-105/
LOCATION:Gymzaal | Huis op Hemert\, Blankenburgsestraat 3\, Ophemert\, 4061 AR
CATEGORIES:Volleybal
END:VEVENT
BEGIN:VEVENT
DTSTART;TZID=Europe/Amsterdam:20260209T204500
DTEND;TZID=Europe/Amsterdam:20260209T220000
DTSTAMP:20260420T042119
CREATED:20260201T181324Z
LAST-MODIFIED:20260201T181324Z
UID:16743-1770669900-1770674400@ophemert.nl
SUMMARY:Volleybal
DESCRIPTION:Kom eens kijken of meld je aan bij: water835@planet.nl
URL:https://ophemert.nl/dorpsagenda/volleybal-106/
LOCATION:Gymzaal | Huis op Hemert\, Blankenburgsestraat 3\, Ophemert\, 4061 AR
CATEGORIES:Volleybal
END:VEVENT
BEGIN:VEVENT
DTSTART;TZID=Europe/Amsterdam:20260216T204500
DTEND;TZID=Europe/Amsterdam:20260216T220000
DTSTAMP:20260420T042119
CREATED:20260201T181324Z
LAST-MODIFIED:20260201T181324Z
UID:16744-1771274700-1771279200@ophemert.nl
SUMMARY:Volleybal
DESCRIPTION:Kom eens kijken of meld je aan bij: water835@planet.nl
URL:https://ophemert.nl/dorpsagenda/volleybal-107/
LOCATION:Gymzaal | Huis op Hemert\, Blankenburgsestraat 3\, Ophemert\, 4061 AR
CATEGORIES:Volleybal
END:VEVENT
BEGIN:VEVENT
DTSTART;TZID=Europe/Amsterdam:20260223T204500
DTEND;TZID=Europe/Amsterdam:20260223T220000
DTSTAMP:20260420T042119
CREATED:20260201T181324Z
LAST-MODIFIED:20260201T181324Z
UID:16745-1771879500-1771884000@ophemert.nl
SUMMARY:Volleybal
DESCRIPTION:Kom eens kijken of meld je aan bij: water835@planet.nl
URL:https://ophemert.nl/dorpsagenda/volleybal-108/
LOCATION:Gymzaal | Huis op Hemert\, Blankenburgsestraat 3\, Ophemert\, 4061 AR
CATEGORIES:Volleybal
END:VEVENT
BEGIN:VEVENT
DTSTART;TZID=Europe/Amsterdam:20260302T204500
DTEND;TZID=Europe/Amsterdam:20260302T220000
DTSTAMP:20260420T042119
CREATED:20260202T185244Z
LAST-MODIFIED:20260211T205007Z
UID:16828-1772484300-1772488800@ophemert.nl
SUMMARY:Volleybal
DESCRIPTION:Kom eens kijken of meld je aan bij: water835@planet.nl
URL:https://ophemert.nl/dorpsagenda/volleybal-109/
LOCATION:Gymzaal | Huis op Hemert\, Blankenburgsestraat 3\, Ophemert\, 4061 AR
CATEGORIES:Volleybal
END:VEVENT
BEGIN:VEVENT
DTSTART;TZID=Europe/Amsterdam:20260309T204500
DTEND;TZID=Europe/Amsterdam:20260309T220000
DTSTAMP:20260420T042119
CREATED:20260202T185244Z
LAST-MODIFIED:20260211T205007Z
UID:16829-1773089100-1773093600@ophemert.nl
SUMMARY:Volleybal
DESCRIPTION:Kom eens kijken of meld je aan bij: water835@planet.nl
URL:https://ophemert.nl/dorpsagenda/volleybal-110/
LOCATION:Gymzaal | Huis op Hemert\, Blankenburgsestraat 3\, Ophemert\, 4061 AR
CATEGORIES:Volleybal
END:VEVENT
BEGIN:VEVENT
DTSTART;TZID=Europe/Amsterdam:20260316T204500
DTEND;TZID=Europe/Amsterdam:20260316T220000
DTSTAMP:20260420T042119
CREATED:20260202T185244Z
LAST-MODIFIED:20260211T205007Z
UID:16830-1773693900-1773698400@ophemert.nl
SUMMARY:Volleybal
DESCRIPTION:Kom eens kijken of meld je aan bij: water835@planet.nl
URL:https://ophemert.nl/dorpsagenda/volleybal-111/
LOCATION:Gymzaal | Huis op Hemert\, Blankenburgsestraat 3\, Ophemert\, 4061 AR
CATEGORIES:Volleybal
END:VEVENT
BEGIN:VEVENT
DTSTART;TZID=Europe/Amsterdam:20260323T204500
DTEND;TZID=Europe/Amsterdam:20260323T220000
DTSTAMP:20260420T042119
CREATED:20260202T185444Z
LAST-MODIFIED:20260211T205207Z
UID:16831-1774298700-1774303200@ophemert.nl
SUMMARY:Volleybal
DESCRIPTION:Kom eens kijken of meld je aan bij: water835@planet.nl
URL:https://ophemert.nl/dorpsagenda/volleybal-112/
LOCATION:Gymzaal | Huis op Hemert\, Blankenburgsestraat 3\, Ophemert\, 4061 AR
CATEGORIES:Volleybal
END:VEVENT
BEGIN:VEVENT
DTSTART;TZID=Europe/Amsterdam:20260330T204500
DTEND;TZID=Europe/Amsterdam:20260330T220000
DTSTAMP:20260420T042119
CREATED:20260202T185444Z
LAST-MODIFIED:20260309T181719Z
UID:16832-1774903500-1774908000@ophemert.nl
SUMMARY:Volleybal
DESCRIPTION:Kom eens kijken of meld je aan bij: water835@planet.nl
URL:https://ophemert.nl/dorpsagenda/volleybal-113/
LOCATION:Gymzaal | Huis op Hemert\, Blankenburgsestraat 3\, Ophemert\, 4061 AR
CATEGORIES:Volleybal
END:VEVENT
BEGIN:VEVENT
DTSTART;TZID=Europe/Amsterdam:20260406T204500
DTEND;TZID=Europe/Amsterdam:20260406T220000
DTSTAMP:20260420T042119
CREATED:20260309T181700Z
LAST-MODIFIED:20260309T181700Z
UID:17237-1775508300-1775512800@ophemert.nl
SUMMARY:Volleybal
DESCRIPTION:Kom eens kijken of meld je aan bij: water835@planet.nl
URL:https://ophemert.nl/dorpsagenda/volleybal-114/
LOCATION:Gymzaal | Huis op Hemert\, Blankenburgsestraat 3\, Ophemert\, 4061 AR
CATEGORIES:Volleybal
END:VEVENT
BEGIN:VEVENT
DTSTART;TZID=Europe/Amsterdam:20260413T204500
DTEND;TZID=Europe/Amsterdam:20260413T220000
DTSTAMP:20260420T042119
CREATED:20260309T181700Z
LAST-MODIFIED:20260309T181700Z
UID:17238-1776113100-1776117600@ophemert.nl
SUMMARY:Volleybal
DESCRIPTION:Kom eens kijken of meld je aan bij: water835@planet.nl
URL:https://ophemert.nl/dorpsagenda/volleybal-115/
LOCATION:Gymzaal | Huis op Hemert\, Blankenburgsestraat 3\, Ophemert\, 4061 AR
CATEGORIES:Volleybal
END:VEVENT
BEGIN:VEVENT
DTSTART;TZID=Europe/Amsterdam:20260420T204500
DTEND;TZID=Europe/Amsterdam:20260420T220000
DTSTAMP:20260420T042119
CREATED:20260309T181700Z
LAST-MODIFIED:20260309T181700Z
UID:17239-1776717900-1776722400@ophemert.nl
SUMMARY:Volleybal
DESCRIPTION:Kom eens kijken of meld je aan bij: water835@planet.nl
URL:https://ophemert.nl/dorpsagenda/volleybal-116/
LOCATION:Gymzaal | Huis op Hemert\, Blankenburgsestraat 3\, Ophemert\, 4061 AR
CATEGORIES:Volleybal
END:VEVENT
BEGIN:VEVENT
DTSTART;TZID=Europe/Amsterdam:20260427T204500
DTEND;TZID=Europe/Amsterdam:20260427T220000
DTSTAMP:20260420T042119
CREATED:20260309T181719Z
LAST-MODIFIED:20260309T181719Z
UID:17240-1777322700-1777327200@ophemert.nl
SUMMARY:Volleybal
DESCRIPTION:Kom eens kijken of meld je aan bij: water835@planet.nl
URL:https://ophemert.nl/dorpsagenda/volleybal-117/
LOCATION:Gymzaal | Huis op Hemert\, Blankenburgsestraat 3\, Ophemert\, 4061 AR
CATEGORIES:Volleybal
END:VEVENT
BEGIN:VEVENT
DTSTART;TZID=Europe/Amsterdam:20260504T204500
DTEND;TZID=Europe/Amsterdam:20260504T220000
DTSTAMP:20260420T042119
CREATED:20260415T173255Z
LAST-MODIFIED:20260415T173255Z
UID:17450-1777927500-1777932000@ophemert.nl
SUMMARY:Volleybal
DESCRIPTION:Kom eens kijken of meld je aan bij: water835@planet.nl
URL:https://ophemert.nl/dorpsagenda/volleybal-118/
LOCATION:Gymzaal | Huis op Hemert\, Blankenburgsestraat 3\, Ophemert\, 4061 AR
CATEGORIES:Volleybal
END:VEVENT
BEGIN:VEVENT
DTSTART;TZID=Europe/Amsterdam:20260511T204500
DTEND;TZID=Europe/Amsterdam:20260511T220000
DTSTAMP:20260420T042119
CREATED:20260415T173255Z
LAST-MODIFIED:20260415T173255Z
UID:17451-1778532300-1778536800@ophemert.nl
SUMMARY:Volleybal
DESCRIPTION:Kom eens kijken of meld je aan bij: water835@planet.nl
URL:https://ophemert.nl/dorpsagenda/volleybal-119/
LOCATION:Gymzaal | Huis op Hemert\, Blankenburgsestraat 3\, Ophemert\, 4061 AR
CATEGORIES:Volleybal
END:VEVENT
BEGIN:VEVENT
DTSTART;TZID=Europe/Amsterdam:20260518T204500
DTEND;TZID=Europe/Amsterdam:20260518T220000
DTSTAMP:20260420T042119
CREATED:20260415T173256Z
LAST-MODIFIED:20260415T173256Z
UID:17452-1779137100-1779141600@ophemert.nl
SUMMARY:Volleybal
DESCRIPTION:Kom eens kijken of meld je aan bij: water835@planet.nl
URL:https://ophemert.nl/dorpsagenda/volleybal-120/
LOCATION:Gymzaal | Huis op Hemert\, Blankenburgsestraat 3\, Ophemert\, 4061 AR
CATEGORIES:Volleybal
END:VEVENT
BEGIN:VEVENT
DTSTART;TZID=Europe/Amsterdam:20260525T204500
DTEND;TZID=Europe/Amsterdam:20260525T220000
DTSTAMP:20260420T042119
CREATED:20260415T173256Z
LAST-MODIFIED:20260415T173256Z
UID:17453-1779741900-1779746400@ophemert.nl
SUMMARY:Volleybal
DESCRIPTION:Kom eens kijken of meld je aan bij: water835@planet.nl
URL:https://ophemert.nl/dorpsagenda/volleybal-121/
LOCATION:Gymzaal | Huis op Hemert\, Blankenburgsestraat 3\, Ophemert\, 4061 AR
CATEGORIES:Volleybal
END:VEVENT
END:VCALENDAR