BEGIN:VCALENDAR
VERSION:2.0
PRODID:-//Ophemert.nl - het dorpsplein van Ophemert - ECPv6.15.20//NONSGML v1.0//EN
CALSCALE:GREGORIAN
METHOD:PUBLISH
X-ORIGINAL-URL:https://ophemert.nl
X-WR-CALDESC:Evenementen voor Ophemert.nl - het dorpsplein van Ophemert
REFRESH-INTERVAL;VALUE=DURATION:PT1H
X-Robots-Tag:noindex
X-PUBLISHED-TTL:PT1H
BEGIN:VTIMEZONE
TZID:Europe/Amsterdam
BEGIN:DAYLIGHT
TZOFFSETFROM:+0100
TZOFFSETTO:+0200
TZNAME:CEST
DTSTART:20250330T010000
END:DAYLIGHT
BEGIN:STANDARD
TZOFFSETFROM:+0200
TZOFFSETTO:+0100
TZNAME:CET
DTSTART:20251026T010000
END:STANDARD
BEGIN:DAYLIGHT
TZOFFSETFROM:+0100
TZOFFSETTO:+0200
TZNAME:CEST
DTSTART:20260329T010000
END:DAYLIGHT
BEGIN:STANDARD
TZOFFSETFROM:+0200
TZOFFSETTO:+0100
TZNAME:CET
DTSTART:20261025T010000
END:STANDARD
BEGIN:DAYLIGHT
TZOFFSETFROM:+0100
TZOFFSETTO:+0200
TZNAME:CEST
DTSTART:20270328T010000
END:DAYLIGHT
BEGIN:STANDARD
TZOFFSETFROM:+0200
TZOFFSETTO:+0100
TZNAME:CET
DTSTART:20271031T010000
END:STANDARD
END:VTIMEZONE
BEGIN:VEVENT
DTSTART;TZID=Europe/Amsterdam:20260305T090000
DTEND;TZID=Europe/Amsterdam:20260305T100000
DTSTAMP:20260419T174756
CREATED:20260211T211607Z
LAST-MODIFIED:20260211T211607Z
UID:17070-1772701200-1772704800@ophemert.nl
SUMMARY:Peuters in beweging
DESCRIPTION:Het beweegplatform (beweegactiviteiten) voor ouders met kinderen tot 4 jaar wonend in de gemeente Tiel en West Betuwe. Je kunt zonder je aan te melden langskomen op de locatie. Contact opnemen kan via de website of via Facebook.
URL:https://ophemert.nl/dorpsagenda/peuters-in-beweging-208/
LOCATION:Gymzaal | Huis op Hemert\, Blankenburgsestraat 3\, Ophemert\, 4061 AR
CATEGORIES:Peuters in beweging
END:VEVENT
BEGIN:VEVENT
DTSTART;TZID=Europe/Amsterdam:20260306T090000
DTEND;TZID=Europe/Amsterdam:20260306T100000
DTSTAMP:20260419T174756
CREATED:20260211T211619Z
LAST-MODIFIED:20260211T211619Z
UID:17074-1772787600-1772791200@ophemert.nl
SUMMARY:Peuters in beweging
DESCRIPTION:Het beweegplatform (beweegactiviteiten) voor ouders met kinderen tot 4 jaar wonend in de gemeente Tiel en West Betuwe. Je kunt zonder je aan te melden langskomen op de locatie. Contact opnemen kan via de website of via Facebook.
URL:https://ophemert.nl/dorpsagenda/peuters-in-beweging-212/
LOCATION:Gymzaal | Huis op Hemert\, Blankenburgsestraat 3\, Ophemert\, 4061 AR
CATEGORIES:Peuters in beweging
END:VEVENT
BEGIN:VEVENT
DTSTART;TZID=Europe/Amsterdam:20260312T090000
DTEND;TZID=Europe/Amsterdam:20260312T100000
DTSTAMP:20260419T174756
CREATED:20260211T211607Z
LAST-MODIFIED:20260211T211607Z
UID:17071-1773306000-1773309600@ophemert.nl
SUMMARY:Peuters in beweging
DESCRIPTION:Het beweegplatform (beweegactiviteiten) voor ouders met kinderen tot 4 jaar wonend in de gemeente Tiel en West Betuwe. Je kunt zonder je aan te melden langskomen op de locatie. Contact opnemen kan via de website of via Facebook.
URL:https://ophemert.nl/dorpsagenda/peuters-in-beweging-209/
LOCATION:Gymzaal | Huis op Hemert\, Blankenburgsestraat 3\, Ophemert\, 4061 AR
CATEGORIES:Peuters in beweging
END:VEVENT
BEGIN:VEVENT
DTSTART;TZID=Europe/Amsterdam:20260313T090000
DTEND;TZID=Europe/Amsterdam:20260313T100000
DTSTAMP:20260419T174756
CREATED:20260211T211619Z
LAST-MODIFIED:20260211T211619Z
UID:17075-1773392400-1773396000@ophemert.nl
SUMMARY:Peuters in beweging
DESCRIPTION:Het beweegplatform (beweegactiviteiten) voor ouders met kinderen tot 4 jaar wonend in de gemeente Tiel en West Betuwe. Je kunt zonder je aan te melden langskomen op de locatie. Contact opnemen kan via de website of via Facebook.
URL:https://ophemert.nl/dorpsagenda/peuters-in-beweging-213/
LOCATION:Gymzaal | Huis op Hemert\, Blankenburgsestraat 3\, Ophemert\, 4061 AR
CATEGORIES:Peuters in beweging
END:VEVENT
BEGIN:VEVENT
DTSTART;TZID=Europe/Amsterdam:20260319T090000
DTEND;TZID=Europe/Amsterdam:20260319T100000
DTSTAMP:20260419T174756
CREATED:20260211T211607Z
LAST-MODIFIED:20260211T211607Z
UID:17072-1773910800-1773914400@ophemert.nl
SUMMARY:Peuters in beweging
DESCRIPTION:Het beweegplatform (beweegactiviteiten) voor ouders met kinderen tot 4 jaar wonend in de gemeente Tiel en West Betuwe. Je kunt zonder je aan te melden langskomen op de locatie. Contact opnemen kan via de website of via Facebook.
URL:https://ophemert.nl/dorpsagenda/peuters-in-beweging-210/
LOCATION:Gymzaal | Huis op Hemert\, Blankenburgsestraat 3\, Ophemert\, 4061 AR
CATEGORIES:Peuters in beweging
END:VEVENT
BEGIN:VEVENT
DTSTART;TZID=Europe/Amsterdam:20260320T090000
DTEND;TZID=Europe/Amsterdam:20260320T100000
DTSTAMP:20260419T174756
CREATED:20260211T211620Z
LAST-MODIFIED:20260211T211620Z
UID:17076-1773997200-1774000800@ophemert.nl
SUMMARY:Peuters in beweging
DESCRIPTION:Het beweegplatform (beweegactiviteiten) voor ouders met kinderen tot 4 jaar wonend in de gemeente Tiel en West Betuwe. Je kunt zonder je aan te melden langskomen op de locatie. Contact opnemen kan via de website of via Facebook.
URL:https://ophemert.nl/dorpsagenda/peuters-in-beweging-214/
LOCATION:Gymzaal | Huis op Hemert\, Blankenburgsestraat 3\, Ophemert\, 4061 AR
CATEGORIES:Peuters in beweging
END:VEVENT
BEGIN:VEVENT
DTSTART;TZID=Europe/Amsterdam:20260326T090000
DTEND;TZID=Europe/Amsterdam:20260326T100000
DTSTAMP:20260419T174756
CREATED:20260211T211619Z
LAST-MODIFIED:20260211T211619Z
UID:17073-1774515600-1774519200@ophemert.nl
SUMMARY:Peuters in beweging
DESCRIPTION:Het beweegplatform (beweegactiviteiten) voor ouders met kinderen tot 4 jaar wonend in de gemeente Tiel en West Betuwe. Je kunt zonder je aan te melden langskomen op de locatie. Contact opnemen kan via de website of via Facebook.
URL:https://ophemert.nl/dorpsagenda/peuters-in-beweging-211/
LOCATION:Gymzaal | Huis op Hemert\, Blankenburgsestraat 3\, Ophemert\, 4061 AR
CATEGORIES:Peuters in beweging
END:VEVENT
BEGIN:VEVENT
DTSTART;TZID=Europe/Amsterdam:20260327T090000
DTEND;TZID=Europe/Amsterdam:20260327T100000
DTSTAMP:20260419T174756
CREATED:20260211T211620Z
LAST-MODIFIED:20260211T211620Z
UID:17077-1774602000-1774605600@ophemert.nl
SUMMARY:Peuters in beweging
DESCRIPTION:Het beweegplatform (beweegactiviteiten) voor ouders met kinderen tot 4 jaar wonend in de gemeente Tiel en West Betuwe. Je kunt zonder je aan te melden langskomen op de locatie. Contact opnemen kan via de website of via Facebook.
URL:https://ophemert.nl/dorpsagenda/peuters-in-beweging-215/
LOCATION:Gymzaal | Huis op Hemert\, Blankenburgsestraat 3\, Ophemert\, 4061 AR
CATEGORIES:Peuters in beweging
END:VEVENT
BEGIN:VEVENT
DTSTART;TZID=Europe/Amsterdam:20260402T090000
DTEND;TZID=Europe/Amsterdam:20260402T100000
DTSTAMP:20260419T174756
CREATED:20260309T182915Z
LAST-MODIFIED:20260309T182915Z
UID:17311-1775120400-1775124000@ophemert.nl
SUMMARY:Peuters in beweging
DESCRIPTION:Het beweegplatform (beweegactiviteiten) voor ouders met kinderen tot 4 jaar wonend in de gemeente Tiel en West Betuwe. Je kunt zonder je aan te melden langskomen op de locatie. Contact opnemen kan via de website of via Facebook.
URL:https://ophemert.nl/dorpsagenda/peuters-in-beweging-216/
LOCATION:Gymzaal | Huis op Hemert\, Blankenburgsestraat 3\, Ophemert\, 4061 AR
CATEGORIES:Peuters in beweging
END:VEVENT
BEGIN:VEVENT
DTSTART;TZID=Europe/Amsterdam:20260403T090000
DTEND;TZID=Europe/Amsterdam:20260403T100000
DTSTAMP:20260419T174756
CREATED:20260309T184115Z
LAST-MODIFIED:20260309T184115Z
UID:17316-1775206800-1775210400@ophemert.nl
SUMMARY:Peuters in beweging
DESCRIPTION:Het beweegplatform (beweegactiviteiten) voor ouders met kinderen tot 4 jaar wonend in de gemeente Tiel en West Betuwe. Je kunt zonder je aan te melden langskomen op de locatie. Contact opnemen kan via de website of via Facebook.
URL:https://ophemert.nl/dorpsagenda/peuters-in-beweging-221/
LOCATION:Gymzaal | Huis op Hemert\, Blankenburgsestraat 3\, Ophemert\, 4061 AR
CATEGORIES:Peuters in beweging
END:VEVENT
BEGIN:VEVENT
DTSTART;TZID=Europe/Amsterdam:20260409T090000
DTEND;TZID=Europe/Amsterdam:20260409T100000
DTSTAMP:20260419T174756
CREATED:20260309T184114Z
LAST-MODIFIED:20260309T184114Z
UID:17312-1775725200-1775728800@ophemert.nl
SUMMARY:Peuters in beweging
DESCRIPTION:Het beweegplatform (beweegactiviteiten) voor ouders met kinderen tot 4 jaar wonend in de gemeente Tiel en West Betuwe. Je kunt zonder je aan te melden langskomen op de locatie. Contact opnemen kan via de website of via Facebook.
URL:https://ophemert.nl/dorpsagenda/peuters-in-beweging-217/
LOCATION:Gymzaal | Huis op Hemert\, Blankenburgsestraat 3\, Ophemert\, 4061 AR
CATEGORIES:Peuters in beweging
END:VEVENT
BEGIN:VEVENT
DTSTART;TZID=Europe/Amsterdam:20260410T090000
DTEND;TZID=Europe/Amsterdam:20260410T100000
DTSTAMP:20260419T174756
CREATED:20260309T184118Z
LAST-MODIFIED:20260309T184118Z
UID:17317-1775811600-1775815200@ophemert.nl
SUMMARY:Peuters in beweging
DESCRIPTION:Het beweegplatform (beweegactiviteiten) voor ouders met kinderen tot 4 jaar wonend in de gemeente Tiel en West Betuwe. Je kunt zonder je aan te melden langskomen op de locatie. Contact opnemen kan via de website of via Facebook.
URL:https://ophemert.nl/dorpsagenda/peuters-in-beweging-222/
LOCATION:Gymzaal | Huis op Hemert\, Blankenburgsestraat 3\, Ophemert\, 4061 AR
CATEGORIES:Peuters in beweging
END:VEVENT
BEGIN:VEVENT
DTSTART;TZID=Europe/Amsterdam:20260416T090000
DTEND;TZID=Europe/Amsterdam:20260416T100000
DTSTAMP:20260419T174756
CREATED:20260309T184115Z
LAST-MODIFIED:20260309T184115Z
UID:17313-1776330000-1776333600@ophemert.nl
SUMMARY:Peuters in beweging
DESCRIPTION:Het beweegplatform (beweegactiviteiten) voor ouders met kinderen tot 4 jaar wonend in de gemeente Tiel en West Betuwe. Je kunt zonder je aan te melden langskomen op de locatie. Contact opnemen kan via de website of via Facebook.
URL:https://ophemert.nl/dorpsagenda/peuters-in-beweging-218/
LOCATION:Gymzaal | Huis op Hemert\, Blankenburgsestraat 3\, Ophemert\, 4061 AR
CATEGORIES:Peuters in beweging
END:VEVENT
BEGIN:VEVENT
DTSTART;TZID=Europe/Amsterdam:20260417T090000
DTEND;TZID=Europe/Amsterdam:20260417T100000
DTSTAMP:20260419T174756
CREATED:20260309T184118Z
LAST-MODIFIED:20260309T184118Z
UID:17318-1776416400-1776420000@ophemert.nl
SUMMARY:Peuters in beweging
DESCRIPTION:Het beweegplatform (beweegactiviteiten) voor ouders met kinderen tot 4 jaar wonend in de gemeente Tiel en West Betuwe. Je kunt zonder je aan te melden langskomen op de locatie. Contact opnemen kan via de website of via Facebook.
URL:https://ophemert.nl/dorpsagenda/peuters-in-beweging-223/
LOCATION:Gymzaal | Huis op Hemert\, Blankenburgsestraat 3\, Ophemert\, 4061 AR
CATEGORIES:Peuters in beweging
END:VEVENT
BEGIN:VEVENT
DTSTART;TZID=Europe/Amsterdam:20260423T090000
DTEND;TZID=Europe/Amsterdam:20260423T100000
DTSTAMP:20260419T174756
CREATED:20260309T184115Z
LAST-MODIFIED:20260309T184115Z
UID:17314-1776934800-1776938400@ophemert.nl
SUMMARY:Peuters in beweging
DESCRIPTION:Het beweegplatform (beweegactiviteiten) voor ouders met kinderen tot 4 jaar wonend in de gemeente Tiel en West Betuwe. Je kunt zonder je aan te melden langskomen op de locatie. Contact opnemen kan via de website of via Facebook.
URL:https://ophemert.nl/dorpsagenda/peuters-in-beweging-219/
LOCATION:Gymzaal | Huis op Hemert\, Blankenburgsestraat 3\, Ophemert\, 4061 AR
CATEGORIES:Peuters in beweging
END:VEVENT
BEGIN:VEVENT
DTSTART;TZID=Europe/Amsterdam:20260424T090000
DTEND;TZID=Europe/Amsterdam:20260424T100000
DTSTAMP:20260419T174756
CREATED:20260309T184118Z
LAST-MODIFIED:20260309T184118Z
UID:17319-1777021200-1777024800@ophemert.nl
SUMMARY:Peuters in beweging
DESCRIPTION:Het beweegplatform (beweegactiviteiten) voor ouders met kinderen tot 4 jaar wonend in de gemeente Tiel en West Betuwe. Je kunt zonder je aan te melden langskomen op de locatie. Contact opnemen kan via de website of via Facebook.
URL:https://ophemert.nl/dorpsagenda/peuters-in-beweging-224/
LOCATION:Gymzaal | Huis op Hemert\, Blankenburgsestraat 3\, Ophemert\, 4061 AR
CATEGORIES:Peuters in beweging
END:VEVENT
BEGIN:VEVENT
DTSTART;TZID=Europe/Amsterdam:20260430T090000
DTEND;TZID=Europe/Amsterdam:20260430T100000
DTSTAMP:20260419T174756
CREATED:20260309T184115Z
LAST-MODIFIED:20260309T184115Z
UID:17315-1777539600-1777543200@ophemert.nl
SUMMARY:Peuters in beweging
DESCRIPTION:Het beweegplatform (beweegactiviteiten) voor ouders met kinderen tot 4 jaar wonend in de gemeente Tiel en West Betuwe. Je kunt zonder je aan te melden langskomen op de locatie. Contact opnemen kan via de website of via Facebook.
URL:https://ophemert.nl/dorpsagenda/peuters-in-beweging-220/
LOCATION:Gymzaal | Huis op Hemert\, Blankenburgsestraat 3\, Ophemert\, 4061 AR
CATEGORIES:Peuters in beweging
END:VEVENT
BEGIN:VEVENT
DTSTART;TZID=Europe/Amsterdam:20260507T090000
DTEND;TZID=Europe/Amsterdam:20260507T100000
DTSTAMP:20260419T174756
CREATED:20260415T175646Z
LAST-MODIFIED:20260415T175646Z
UID:17508-1778144400-1778148000@ophemert.nl
SUMMARY:Peuters in beweging
DESCRIPTION:Het beweegplatform (beweegactiviteiten) voor ouders met kinderen tot 4 jaar wonend in de gemeente Tiel en West Betuwe. Je kunt zonder je aan te melden langskomen op de locatie. Contact opnemen kan via de website of via Facebook.
URL:https://ophemert.nl/dorpsagenda/peuters-in-beweging-225/
LOCATION:Gymzaal | Huis op Hemert\, Blankenburgsestraat 3\, Ophemert\, 4061 AR
CATEGORIES:Peuters in beweging
END:VEVENT
BEGIN:VEVENT
DTSTART;TZID=Europe/Amsterdam:20260508T090000
DTEND;TZID=Europe/Amsterdam:20260508T100000
DTSTAMP:20260419T174756
CREATED:20260415T175701Z
LAST-MODIFIED:20260415T175701Z
UID:17512-1778230800-1778234400@ophemert.nl
SUMMARY:Peuters in beweging
DESCRIPTION:Het beweegplatform (beweegactiviteiten) voor ouders met kinderen tot 4 jaar wonend in de gemeente Tiel en West Betuwe. Je kunt zonder je aan te melden langskomen op de locatie. Contact opnemen kan via de website of via Facebook.
URL:https://ophemert.nl/dorpsagenda/peuters-in-beweging-229/
LOCATION:Gymzaal | Huis op Hemert\, Blankenburgsestraat 3\, Ophemert\, 4061 AR
CATEGORIES:Peuters in beweging
END:VEVENT
BEGIN:VEVENT
DTSTART;TZID=Europe/Amsterdam:20260514T090000
DTEND;TZID=Europe/Amsterdam:20260514T100000
DTSTAMP:20260419T174756
CREATED:20260415T175647Z
LAST-MODIFIED:20260415T175647Z
UID:17509-1778749200-1778752800@ophemert.nl
SUMMARY:Peuters in beweging
DESCRIPTION:Het beweegplatform (beweegactiviteiten) voor ouders met kinderen tot 4 jaar wonend in de gemeente Tiel en West Betuwe. Je kunt zonder je aan te melden langskomen op de locatie. Contact opnemen kan via de website of via Facebook.
URL:https://ophemert.nl/dorpsagenda/peuters-in-beweging-226/
LOCATION:Gymzaal | Huis op Hemert\, Blankenburgsestraat 3\, Ophemert\, 4061 AR
CATEGORIES:Peuters in beweging
END:VEVENT
BEGIN:VEVENT
DTSTART;TZID=Europe/Amsterdam:20260515T090000
DTEND;TZID=Europe/Amsterdam:20260515T100000
DTSTAMP:20260419T174756
CREATED:20260416T155602Z
LAST-MODIFIED:20260416T155602Z
UID:17533-1778835600-1778839200@ophemert.nl
SUMMARY:Peuters in beweging
DESCRIPTION:Het beweegplatform (beweegactiviteiten) voor ouders met kinderen tot 4 jaar wonend in de gemeente Tiel en West Betuwe. Je kunt zonder je aan te melden langskomen op de locatie. Contact opnemen kan via de website of via Facebook.
URL:https://ophemert.nl/dorpsagenda/peuters-in-beweging-232/
LOCATION:Gymzaal | Huis op Hemert\, Blankenburgsestraat 3\, Ophemert\, 4061 AR
CATEGORIES:Peuters in beweging
END:VEVENT
BEGIN:VEVENT
DTSTART;TZID=Europe/Amsterdam:20260521T090000
DTEND;TZID=Europe/Amsterdam:20260521T100000
DTSTAMP:20260419T174756
CREATED:20260415T175647Z
LAST-MODIFIED:20260415T175647Z
UID:17510-1779354000-1779357600@ophemert.nl
SUMMARY:Peuters in beweging
DESCRIPTION:Het beweegplatform (beweegactiviteiten) voor ouders met kinderen tot 4 jaar wonend in de gemeente Tiel en West Betuwe. Je kunt zonder je aan te melden langskomen op de locatie. Contact opnemen kan via de website of via Facebook.
URL:https://ophemert.nl/dorpsagenda/peuters-in-beweging-227/
LOCATION:Gymzaal | Huis op Hemert\, Blankenburgsestraat 3\, Ophemert\, 4061 AR
CATEGORIES:Peuters in beweging
END:VEVENT
BEGIN:VEVENT
DTSTART;TZID=Europe/Amsterdam:20260522T090000
DTEND;TZID=Europe/Amsterdam:20260522T100000
DTSTAMP:20260419T174756
CREATED:20260415T175702Z
LAST-MODIFIED:20260415T175702Z
UID:17513-1779440400-1779444000@ophemert.nl
SUMMARY:Peuters in beweging
DESCRIPTION:Het beweegplatform (beweegactiviteiten) voor ouders met kinderen tot 4 jaar wonend in de gemeente Tiel en West Betuwe. Je kunt zonder je aan te melden langskomen op de locatie. Contact opnemen kan via de website of via Facebook.
URL:https://ophemert.nl/dorpsagenda/peuters-in-beweging-230/
LOCATION:Gymzaal | Huis op Hemert\, Blankenburgsestraat 3\, Ophemert\, 4061 AR
CATEGORIES:Peuters in beweging
END:VEVENT
BEGIN:VEVENT
DTSTART;TZID=Europe/Amsterdam:20260528T090000
DTEND;TZID=Europe/Amsterdam:20260528T100000
DTSTAMP:20260419T174756
CREATED:20260415T175701Z
LAST-MODIFIED:20260415T175701Z
UID:17511-1779958800-1779962400@ophemert.nl
SUMMARY:Peuters in beweging
DESCRIPTION:Het beweegplatform (beweegactiviteiten) voor ouders met kinderen tot 4 jaar wonend in de gemeente Tiel en West Betuwe. Je kunt zonder je aan te melden langskomen op de locatie. Contact opnemen kan via de website of via Facebook.
URL:https://ophemert.nl/dorpsagenda/peuters-in-beweging-228/
LOCATION:Gymzaal | Huis op Hemert\, Blankenburgsestraat 3\, Ophemert\, 4061 AR
CATEGORIES:Peuters in beweging
END:VEVENT
BEGIN:VEVENT
DTSTART;TZID=Europe/Amsterdam:20260529T090000
DTEND;TZID=Europe/Amsterdam:20260529T100000
DTSTAMP:20260419T174756
CREATED:20260415T175717Z
LAST-MODIFIED:20260415T175717Z
UID:17514-1780045200-1780048800@ophemert.nl
SUMMARY:Peuters in beweging
DESCRIPTION:Het beweegplatform (beweegactiviteiten) voor ouders met kinderen tot 4 jaar wonend in de gemeente Tiel en West Betuwe. Je kunt zonder je aan te melden langskomen op de locatie. Contact opnemen kan via de website of via Facebook.
URL:https://ophemert.nl/dorpsagenda/peuters-in-beweging-231/
LOCATION:Gymzaal | Huis op Hemert\, Blankenburgsestraat 3\, Ophemert\, 4061 AR
CATEGORIES:Peuters in beweging
END:VEVENT
END:VCALENDAR