BEGIN:VCALENDAR
VERSION:2.0
PRODID:-//Ophemert.nl - het dorpsplein van Ophemert - ECPv6.15.20//NONSGML v1.0//EN
CALSCALE:GREGORIAN
METHOD:PUBLISH
X-WR-CALNAME:Ophemert.nl - het dorpsplein van Ophemert
X-ORIGINAL-URL:https://ophemert.nl
X-WR-CALDESC:Evenementen voor Ophemert.nl - het dorpsplein van Ophemert
REFRESH-INTERVAL;VALUE=DURATION:PT1H
X-Robots-Tag:noindex
X-PUBLISHED-TTL:PT1H
BEGIN:VTIMEZONE
TZID:Europe/Amsterdam
BEGIN:DAYLIGHT
TZOFFSETFROM:+0100
TZOFFSETTO:+0200
TZNAME:CEST
DTSTART:20250330T010000
END:DAYLIGHT
BEGIN:STANDARD
TZOFFSETFROM:+0200
TZOFFSETTO:+0100
TZNAME:CET
DTSTART:20251026T010000
END:STANDARD
BEGIN:DAYLIGHT
TZOFFSETFROM:+0100
TZOFFSETTO:+0200
TZNAME:CEST
DTSTART:20260329T010000
END:DAYLIGHT
BEGIN:STANDARD
TZOFFSETFROM:+0200
TZOFFSETTO:+0100
TZNAME:CET
DTSTART:20261025T010000
END:STANDARD
BEGIN:DAYLIGHT
TZOFFSETFROM:+0100
TZOFFSETTO:+0200
TZNAME:CEST
DTSTART:20270328T010000
END:DAYLIGHT
BEGIN:STANDARD
TZOFFSETFROM:+0200
TZOFFSETTO:+0100
TZNAME:CET
DTSTART:20271031T010000
END:STANDARD
END:VTIMEZONE
BEGIN:VEVENT
DTSTART;TZID=Europe/Amsterdam:20260204T140000
DTEND;TZID=Europe/Amsterdam:20260204T170000
DTSTAMP:20260419T192043
CREATED:20260201T181704Z
LAST-MODIFIED:20260201T181704Z
UID:16790-1770213600-1770224400@ophemert.nl
SUMMARY:Bibliotheek Ophemert
DESCRIPTION:Voor meer informatie kunt u contact opnemen met inge.dehaas@bibliotheekrivierenland.nl. Tel.: 0344 – 63 99 40
URL:https://ophemert.nl/dorpsagenda/bibliotheek-ophemert-208/
LOCATION:Foyer | Huis op Hemert\, Blankenburgsestraat 3\, Ophemert\, 4061 AR
CATEGORIES:Bibliotheek Ophemert
ORGANIZER;CN="Bibliotheek Ophemert":MAILTO:klantenservice@bibliotheekrivierenland.nl
END:VEVENT
BEGIN:VEVENT
DTSTART;TZID=Europe/Amsterdam:20260205T183000
DTEND;TZID=Europe/Amsterdam:20260205T193000
DTSTAMP:20260419T192043
CREATED:20260201T181721Z
LAST-MODIFIED:20260201T181721Z
UID:16794-1770316200-1770319800@ophemert.nl
SUMMARY:Bibliotheek Ophemert
DESCRIPTION:Voor meer informatie kunt u contact opnemen met inge.dehaas@bibliotheekrivierenland.nl. Tel.: 0344 – 63 99 40
URL:https://ophemert.nl/dorpsagenda/bibliotheek-ophemert-212/
LOCATION:Foyer | Huis op Hemert\, Blankenburgsestraat 3\, Ophemert\, 4061 AR
CATEGORIES:Bibliotheek Ophemert
ORGANIZER;CN="Bibliotheek Ophemert":MAILTO:klantenservice@bibliotheekrivierenland.nl
END:VEVENT
BEGIN:VEVENT
DTSTART;TZID=Europe/Amsterdam:20260211T140000
DTEND;TZID=Europe/Amsterdam:20260211T170000
DTSTAMP:20260419T192043
CREATED:20260201T181704Z
LAST-MODIFIED:20260201T181704Z
UID:16791-1770818400-1770829200@ophemert.nl
SUMMARY:Bibliotheek Ophemert
DESCRIPTION:Voor meer informatie kunt u contact opnemen met inge.dehaas@bibliotheekrivierenland.nl. Tel.: 0344 – 63 99 40
URL:https://ophemert.nl/dorpsagenda/bibliotheek-ophemert-209/
LOCATION:Foyer | Huis op Hemert\, Blankenburgsestraat 3\, Ophemert\, 4061 AR
CATEGORIES:Bibliotheek Ophemert
ORGANIZER;CN="Bibliotheek Ophemert":MAILTO:klantenservice@bibliotheekrivierenland.nl
END:VEVENT
BEGIN:VEVENT
DTSTART;TZID=Europe/Amsterdam:20260212T183000
DTEND;TZID=Europe/Amsterdam:20260212T193000
DTSTAMP:20260419T192043
CREATED:20260201T181721Z
LAST-MODIFIED:20260201T181721Z
UID:16795-1770921000-1770924600@ophemert.nl
SUMMARY:Bibliotheek Ophemert
DESCRIPTION:Voor meer informatie kunt u contact opnemen met inge.dehaas@bibliotheekrivierenland.nl. Tel.: 0344 – 63 99 40
URL:https://ophemert.nl/dorpsagenda/bibliotheek-ophemert-213/
LOCATION:Foyer | Huis op Hemert\, Blankenburgsestraat 3\, Ophemert\, 4061 AR
CATEGORIES:Bibliotheek Ophemert
ORGANIZER;CN="Bibliotheek Ophemert":MAILTO:klantenservice@bibliotheekrivierenland.nl
END:VEVENT
BEGIN:VEVENT
DTSTART;TZID=Europe/Amsterdam:20260218T140000
DTEND;TZID=Europe/Amsterdam:20260218T170000
DTSTAMP:20260419T192043
CREATED:20260201T181721Z
LAST-MODIFIED:20260201T181721Z
UID:16792-1771423200-1771434000@ophemert.nl
SUMMARY:Bibliotheek Ophemert
DESCRIPTION:Voor meer informatie kunt u contact opnemen met inge.dehaas@bibliotheekrivierenland.nl. Tel.: 0344 – 63 99 40
URL:https://ophemert.nl/dorpsagenda/bibliotheek-ophemert-210/
LOCATION:Foyer | Huis op Hemert\, Blankenburgsestraat 3\, Ophemert\, 4061 AR
CATEGORIES:Bibliotheek Ophemert
ORGANIZER;CN="Bibliotheek Ophemert":MAILTO:klantenservice@bibliotheekrivierenland.nl
END:VEVENT
BEGIN:VEVENT
DTSTART;TZID=Europe/Amsterdam:20260219T183000
DTEND;TZID=Europe/Amsterdam:20260219T193000
DTSTAMP:20260419T192043
CREATED:20260201T181722Z
LAST-MODIFIED:20260201T181722Z
UID:16796-1771525800-1771529400@ophemert.nl
SUMMARY:Bibliotheek Ophemert
DESCRIPTION:Voor meer informatie kunt u contact opnemen met inge.dehaas@bibliotheekrivierenland.nl. Tel.: 0344 – 63 99 40
URL:https://ophemert.nl/dorpsagenda/bibliotheek-ophemert-214/
LOCATION:Foyer | Huis op Hemert\, Blankenburgsestraat 3\, Ophemert\, 4061 AR
CATEGORIES:Bibliotheek Ophemert
ORGANIZER;CN="Bibliotheek Ophemert":MAILTO:klantenservice@bibliotheekrivierenland.nl
END:VEVENT
BEGIN:VEVENT
DTSTART;TZID=Europe/Amsterdam:20260225T140000
DTEND;TZID=Europe/Amsterdam:20260225T170000
DTSTAMP:20260419T192043
CREATED:20260201T181721Z
LAST-MODIFIED:20260201T181721Z
UID:16793-1772028000-1772038800@ophemert.nl
SUMMARY:Bibliotheek Ophemert
DESCRIPTION:Voor meer informatie kunt u contact opnemen met inge.dehaas@bibliotheekrivierenland.nl. Tel.: 0344 – 63 99 40
URL:https://ophemert.nl/dorpsagenda/bibliotheek-ophemert-211/
LOCATION:Foyer | Huis op Hemert\, Blankenburgsestraat 3\, Ophemert\, 4061 AR
CATEGORIES:Bibliotheek Ophemert
ORGANIZER;CN="Bibliotheek Ophemert":MAILTO:klantenservice@bibliotheekrivierenland.nl
END:VEVENT
BEGIN:VEVENT
DTSTART;TZID=Europe/Amsterdam:20260226T183000
DTEND;TZID=Europe/Amsterdam:20260226T193000
DTSTAMP:20260419T192043
CREATED:20260201T181738Z
LAST-MODIFIED:20260201T181738Z
UID:16797-1772130600-1772134200@ophemert.nl
SUMMARY:Bibliotheek Ophemert
DESCRIPTION:Voor meer informatie kunt u contact opnemen met inge.dehaas@bibliotheekrivierenland.nl. Tel.: 0344 – 63 99 40
URL:https://ophemert.nl/dorpsagenda/bibliotheek-ophemert-215/
LOCATION:Foyer | Huis op Hemert\, Blankenburgsestraat 3\, Ophemert\, 4061 AR
CATEGORIES:Bibliotheek Ophemert
ORGANIZER;CN="Bibliotheek Ophemert":MAILTO:klantenservice@bibliotheekrivierenland.nl
END:VEVENT
BEGIN:VEVENT
DTSTART;TZID=Europe/Amsterdam:20260304T140000
DTEND;TZID=Europe/Amsterdam:20260304T170000
DTSTAMP:20260419T192043
CREATED:20260211T210500Z
LAST-MODIFIED:20260211T210500Z
UID:17050-1772632800-1772643600@ophemert.nl
SUMMARY:Bibliotheek Ophemert
DESCRIPTION:Voor meer informatie kunt u contact opnemen met inge.dehaas@bibliotheekrivierenland.nl. Tel.: 0344 – 63 99 40
URL:https://ophemert.nl/dorpsagenda/bibliotheek-ophemert-216/
LOCATION:Foyer | Huis op Hemert\, Blankenburgsestraat 3\, Ophemert\, 4061 AR
CATEGORIES:Bibliotheek Ophemert
ORGANIZER;CN="Bibliotheek Ophemert":MAILTO:klantenservice@bibliotheekrivierenland.nl
END:VEVENT
BEGIN:VEVENT
DTSTART;TZID=Europe/Amsterdam:20260305T183000
DTEND;TZID=Europe/Amsterdam:20260305T193000
DTSTAMP:20260419T192043
CREATED:20260211T210621Z
LAST-MODIFIED:20260211T210621Z
UID:17054-1772735400-1772739000@ophemert.nl
SUMMARY:Bibliotheek Ophemert
DESCRIPTION:Voor meer informatie kunt u contact opnemen met inge.dehaas@bibliotheekrivierenland.nl. Tel.: 0344 – 63 99 40
URL:https://ophemert.nl/dorpsagenda/bibliotheek-ophemert-220/
LOCATION:Foyer | Huis op Hemert\, Blankenburgsestraat 3\, Ophemert\, 4061 AR
CATEGORIES:Bibliotheek Ophemert
ORGANIZER;CN="Bibliotheek Ophemert":MAILTO:klantenservice@bibliotheekrivierenland.nl
END:VEVENT
BEGIN:VEVENT
DTSTART;TZID=Europe/Amsterdam:20260311T140000
DTEND;TZID=Europe/Amsterdam:20260311T170000
DTSTAMP:20260419T192043
CREATED:20260211T210500Z
LAST-MODIFIED:20260211T210500Z
UID:17051-1773237600-1773248400@ophemert.nl
SUMMARY:Bibliotheek Ophemert
DESCRIPTION:Voor meer informatie kunt u contact opnemen met inge.dehaas@bibliotheekrivierenland.nl. Tel.: 0344 – 63 99 40
URL:https://ophemert.nl/dorpsagenda/bibliotheek-ophemert-217/
LOCATION:Foyer | Huis op Hemert\, Blankenburgsestraat 3\, Ophemert\, 4061 AR
CATEGORIES:Bibliotheek Ophemert
ORGANIZER;CN="Bibliotheek Ophemert":MAILTO:klantenservice@bibliotheekrivierenland.nl
END:VEVENT
BEGIN:VEVENT
DTSTART;TZID=Europe/Amsterdam:20260312T183000
DTEND;TZID=Europe/Amsterdam:20260312T193000
DTSTAMP:20260419T192043
CREATED:20260211T210621Z
LAST-MODIFIED:20260211T210621Z
UID:17055-1773340200-1773343800@ophemert.nl
SUMMARY:Bibliotheek Ophemert
DESCRIPTION:Voor meer informatie kunt u contact opnemen met inge.dehaas@bibliotheekrivierenland.nl. Tel.: 0344 – 63 99 40
URL:https://ophemert.nl/dorpsagenda/bibliotheek-ophemert-221/
LOCATION:Foyer | Huis op Hemert\, Blankenburgsestraat 3\, Ophemert\, 4061 AR
CATEGORIES:Bibliotheek Ophemert
ORGANIZER;CN="Bibliotheek Ophemert":MAILTO:klantenservice@bibliotheekrivierenland.nl
END:VEVENT
BEGIN:VEVENT
DTSTART;TZID=Europe/Amsterdam:20260318T140000
DTEND;TZID=Europe/Amsterdam:20260318T170000
DTSTAMP:20260419T192043
CREATED:20260211T210621Z
LAST-MODIFIED:20260211T210621Z
UID:17052-1773842400-1773853200@ophemert.nl
SUMMARY:Bibliotheek Ophemert
DESCRIPTION:Voor meer informatie kunt u contact opnemen met inge.dehaas@bibliotheekrivierenland.nl. Tel.: 0344 – 63 99 40
URL:https://ophemert.nl/dorpsagenda/bibliotheek-ophemert-218/
LOCATION:Foyer | Huis op Hemert\, Blankenburgsestraat 3\, Ophemert\, 4061 AR
CATEGORIES:Bibliotheek Ophemert
ORGANIZER;CN="Bibliotheek Ophemert":MAILTO:klantenservice@bibliotheekrivierenland.nl
END:VEVENT
BEGIN:VEVENT
DTSTART;TZID=Europe/Amsterdam:20260319T183000
DTEND;TZID=Europe/Amsterdam:20260319T193000
DTSTAMP:20260419T192043
CREATED:20260211T210621Z
LAST-MODIFIED:20260211T210621Z
UID:17056-1773945000-1773948600@ophemert.nl
SUMMARY:Bibliotheek Ophemert
DESCRIPTION:Voor meer informatie kunt u contact opnemen met inge.dehaas@bibliotheekrivierenland.nl. Tel.: 0344 – 63 99 40
URL:https://ophemert.nl/dorpsagenda/bibliotheek-ophemert-222/
LOCATION:Foyer | Huis op Hemert\, Blankenburgsestraat 3\, Ophemert\, 4061 AR
CATEGORIES:Bibliotheek Ophemert
ORGANIZER;CN="Bibliotheek Ophemert":MAILTO:klantenservice@bibliotheekrivierenland.nl
END:VEVENT
BEGIN:VEVENT
DTSTART;TZID=Europe/Amsterdam:20260325T140000
DTEND;TZID=Europe/Amsterdam:20260325T170000
DTSTAMP:20260419T192043
CREATED:20260211T210621Z
LAST-MODIFIED:20260211T210621Z
UID:17053-1774447200-1774458000@ophemert.nl
SUMMARY:Bibliotheek Ophemert
DESCRIPTION:Voor meer informatie kunt u contact opnemen met inge.dehaas@bibliotheekrivierenland.nl. Tel.: 0344 – 63 99 40
URL:https://ophemert.nl/dorpsagenda/bibliotheek-ophemert-219/
LOCATION:Foyer | Huis op Hemert\, Blankenburgsestraat 3\, Ophemert\, 4061 AR
CATEGORIES:Bibliotheek Ophemert
ORGANIZER;CN="Bibliotheek Ophemert":MAILTO:klantenservice@bibliotheekrivierenland.nl
END:VEVENT
BEGIN:VEVENT
DTSTART;TZID=Europe/Amsterdam:20260326T183000
DTEND;TZID=Europe/Amsterdam:20260326T193000
DTSTAMP:20260419T192043
CREATED:20260211T210628Z
LAST-MODIFIED:20260211T210628Z
UID:17057-1774549800-1774553400@ophemert.nl
SUMMARY:Bibliotheek Ophemert
DESCRIPTION:Voor meer informatie kunt u contact opnemen met inge.dehaas@bibliotheekrivierenland.nl. Tel.: 0344 – 63 99 40
URL:https://ophemert.nl/dorpsagenda/bibliotheek-ophemert-223/
LOCATION:Foyer | Huis op Hemert\, Blankenburgsestraat 3\, Ophemert\, 4061 AR
CATEGORIES:Bibliotheek Ophemert
ORGANIZER;CN="Bibliotheek Ophemert":MAILTO:klantenservice@bibliotheekrivierenland.nl
END:VEVENT
BEGIN:VEVENT
DTSTART;TZID=Europe/Amsterdam:20260401T140000
DTEND;TZID=Europe/Amsterdam:20260401T170000
DTSTAMP:20260419T192043
CREATED:20260309T182849Z
LAST-MODIFIED:20260309T182849Z
UID:17291-1775052000-1775062800@ophemert.nl
SUMMARY:Bibliotheek Ophemert
DESCRIPTION:Voor meer informatie kunt u contact opnemen met inge.dehaas@bibliotheekrivierenland.nl. Tel.: 0344 – 63 99 40
URL:https://ophemert.nl/dorpsagenda/bibliotheek-ophemert-224/
LOCATION:Foyer | Huis op Hemert\, Blankenburgsestraat 3\, Ophemert\, 4061 AR
CATEGORIES:Bibliotheek Ophemert
ORGANIZER;CN="Bibliotheek Ophemert":MAILTO:klantenservice@bibliotheekrivierenland.nl
END:VEVENT
BEGIN:VEVENT
DTSTART;TZID=Europe/Amsterdam:20260402T183000
DTEND;TZID=Europe/Amsterdam:20260402T193000
DTSTAMP:20260419T192043
CREATED:20260309T182854Z
LAST-MODIFIED:20260309T182854Z
UID:17296-1775154600-1775158200@ophemert.nl
SUMMARY:Bibliotheek Ophemert
DESCRIPTION:Voor meer informatie kunt u contact opnemen met inge.dehaas@bibliotheekrivierenland.nl. Tel.: 0344 – 63 99 40
URL:https://ophemert.nl/dorpsagenda/bibliotheek-ophemert-229/
LOCATION:Foyer | Huis op Hemert\, Blankenburgsestraat 3\, Ophemert\, 4061 AR
CATEGORIES:Bibliotheek Ophemert
ORGANIZER;CN="Bibliotheek Ophemert":MAILTO:klantenservice@bibliotheekrivierenland.nl
END:VEVENT
BEGIN:VEVENT
DTSTART;TZID=Europe/Amsterdam:20260408T140000
DTEND;TZID=Europe/Amsterdam:20260408T170000
DTSTAMP:20260419T192043
CREATED:20260309T182849Z
LAST-MODIFIED:20260309T182849Z
UID:17292-1775656800-1775667600@ophemert.nl
SUMMARY:Bibliotheek Ophemert
DESCRIPTION:Voor meer informatie kunt u contact opnemen met inge.dehaas@bibliotheekrivierenland.nl. Tel.: 0344 – 63 99 40
URL:https://ophemert.nl/dorpsagenda/bibliotheek-ophemert-225/
LOCATION:Foyer | Huis op Hemert\, Blankenburgsestraat 3\, Ophemert\, 4061 AR
CATEGORIES:Bibliotheek Ophemert
ORGANIZER;CN="Bibliotheek Ophemert":MAILTO:klantenservice@bibliotheekrivierenland.nl
END:VEVENT
BEGIN:VEVENT
DTSTART;TZID=Europe/Amsterdam:20260409T183000
DTEND;TZID=Europe/Amsterdam:20260409T193000
DTSTAMP:20260419T192043
CREATED:20260309T182854Z
LAST-MODIFIED:20260309T182854Z
UID:17297-1775759400-1775763000@ophemert.nl
SUMMARY:Bibliotheek Ophemert
DESCRIPTION:Voor meer informatie kunt u contact opnemen met inge.dehaas@bibliotheekrivierenland.nl. Tel.: 0344 – 63 99 40
URL:https://ophemert.nl/dorpsagenda/bibliotheek-ophemert-230/
LOCATION:Foyer | Huis op Hemert\, Blankenburgsestraat 3\, Ophemert\, 4061 AR
CATEGORIES:Bibliotheek Ophemert
ORGANIZER;CN="Bibliotheek Ophemert":MAILTO:klantenservice@bibliotheekrivierenland.nl
END:VEVENT
BEGIN:VEVENT
DTSTART;TZID=Europe/Amsterdam:20260415T140000
DTEND;TZID=Europe/Amsterdam:20260415T170000
DTSTAMP:20260419T192043
CREATED:20260309T182850Z
LAST-MODIFIED:20260309T182850Z
UID:17293-1776261600-1776272400@ophemert.nl
SUMMARY:Bibliotheek Ophemert
DESCRIPTION:Voor meer informatie kunt u contact opnemen met inge.dehaas@bibliotheekrivierenland.nl. Tel.: 0344 – 63 99 40
URL:https://ophemert.nl/dorpsagenda/bibliotheek-ophemert-226/
LOCATION:Foyer | Huis op Hemert\, Blankenburgsestraat 3\, Ophemert\, 4061 AR
CATEGORIES:Bibliotheek Ophemert
ORGANIZER;CN="Bibliotheek Ophemert":MAILTO:klantenservice@bibliotheekrivierenland.nl
END:VEVENT
BEGIN:VEVENT
DTSTART;TZID=Europe/Amsterdam:20260416T183000
DTEND;TZID=Europe/Amsterdam:20260416T193000
DTSTAMP:20260419T192043
CREATED:20260309T182854Z
LAST-MODIFIED:20260309T182854Z
UID:17298-1776364200-1776367800@ophemert.nl
SUMMARY:Bibliotheek Ophemert
DESCRIPTION:Voor meer informatie kunt u contact opnemen met inge.dehaas@bibliotheekrivierenland.nl. Tel.: 0344 – 63 99 40
URL:https://ophemert.nl/dorpsagenda/bibliotheek-ophemert-231/
LOCATION:Foyer | Huis op Hemert\, Blankenburgsestraat 3\, Ophemert\, 4061 AR
CATEGORIES:Bibliotheek Ophemert
ORGANIZER;CN="Bibliotheek Ophemert":MAILTO:klantenservice@bibliotheekrivierenland.nl
END:VEVENT
BEGIN:VEVENT
DTSTART;TZID=Europe/Amsterdam:20260422T140000
DTEND;TZID=Europe/Amsterdam:20260422T170000
DTSTAMP:20260419T192043
CREATED:20260309T182850Z
LAST-MODIFIED:20260309T182850Z
UID:17294-1776866400-1776877200@ophemert.nl
SUMMARY:Bibliotheek Ophemert
DESCRIPTION:Voor meer informatie kunt u contact opnemen met inge.dehaas@bibliotheekrivierenland.nl. Tel.: 0344 – 63 99 40
URL:https://ophemert.nl/dorpsagenda/bibliotheek-ophemert-227/
LOCATION:Foyer | Huis op Hemert\, Blankenburgsestraat 3\, Ophemert\, 4061 AR
CATEGORIES:Bibliotheek Ophemert
ORGANIZER;CN="Bibliotheek Ophemert":MAILTO:klantenservice@bibliotheekrivierenland.nl
END:VEVENT
BEGIN:VEVENT
DTSTART;TZID=Europe/Amsterdam:20260423T183000
DTEND;TZID=Europe/Amsterdam:20260423T193000
DTSTAMP:20260419T192043
CREATED:20260309T182854Z
LAST-MODIFIED:20260309T182854Z
UID:17299-1776969000-1776972600@ophemert.nl
SUMMARY:Bibliotheek Ophemert
DESCRIPTION:Voor meer informatie kunt u contact opnemen met inge.dehaas@bibliotheekrivierenland.nl. Tel.: 0344 – 63 99 40
URL:https://ophemert.nl/dorpsagenda/bibliotheek-ophemert-232/
LOCATION:Foyer | Huis op Hemert\, Blankenburgsestraat 3\, Ophemert\, 4061 AR
CATEGORIES:Bibliotheek Ophemert
ORGANIZER;CN="Bibliotheek Ophemert":MAILTO:klantenservice@bibliotheekrivierenland.nl
END:VEVENT
BEGIN:VEVENT
DTSTART;TZID=Europe/Amsterdam:20260429T140000
DTEND;TZID=Europe/Amsterdam:20260429T170000
DTSTAMP:20260419T192043
CREATED:20260309T182853Z
LAST-MODIFIED:20260309T182853Z
UID:17295-1777471200-1777482000@ophemert.nl
SUMMARY:Bibliotheek Ophemert
DESCRIPTION:Voor meer informatie kunt u contact opnemen met inge.dehaas@bibliotheekrivierenland.nl. Tel.: 0344 – 63 99 40
URL:https://ophemert.nl/dorpsagenda/bibliotheek-ophemert-228/
LOCATION:Foyer | Huis op Hemert\, Blankenburgsestraat 3\, Ophemert\, 4061 AR
CATEGORIES:Bibliotheek Ophemert
ORGANIZER;CN="Bibliotheek Ophemert":MAILTO:klantenservice@bibliotheekrivierenland.nl
END:VEVENT
BEGIN:VEVENT
DTSTART;TZID=Europe/Amsterdam:20260430T183000
DTEND;TZID=Europe/Amsterdam:20260430T193000
DTSTAMP:20260419T192043
CREATED:20260309T182907Z
LAST-MODIFIED:20260309T182907Z
UID:17300-1777573800-1777577400@ophemert.nl
SUMMARY:Bibliotheek Ophemert
DESCRIPTION:Voor meer informatie kunt u contact opnemen met inge.dehaas@bibliotheekrivierenland.nl. Tel.: 0344 – 63 99 40
URL:https://ophemert.nl/dorpsagenda/bibliotheek-ophemert-233/
LOCATION:Foyer | Huis op Hemert\, Blankenburgsestraat 3\, Ophemert\, 4061 AR
CATEGORIES:Bibliotheek Ophemert
ORGANIZER;CN="Bibliotheek Ophemert":MAILTO:klantenservice@bibliotheekrivierenland.nl
END:VEVENT
BEGIN:VEVENT
DTSTART;TZID=Europe/Amsterdam:20260506T140000
DTEND;TZID=Europe/Amsterdam:20260506T170000
DTSTAMP:20260419T192043
CREATED:20260415T175102Z
LAST-MODIFIED:20260415T175102Z
UID:17492-1778076000-1778086800@ophemert.nl
SUMMARY:Bibliotheek Ophemert
DESCRIPTION:Voor meer informatie kunt u contact opnemen met inge.dehaas@bibliotheekrivierenland.nl. Tel.: 0344 – 63 99 40
URL:https://ophemert.nl/dorpsagenda/bibliotheek-ophemert-234/
LOCATION:Foyer | Huis op Hemert\, Blankenburgsestraat 3\, Ophemert\, 4061 AR
CATEGORIES:Bibliotheek Ophemert
ORGANIZER;CN="Bibliotheek Ophemert":MAILTO:klantenservice@bibliotheekrivierenland.nl
END:VEVENT
BEGIN:VEVENT
DTSTART;TZID=Europe/Amsterdam:20260507T183000
DTEND;TZID=Europe/Amsterdam:20260507T193000
DTSTAMP:20260419T192043
CREATED:20260415T175303Z
LAST-MODIFIED:20260415T175303Z
UID:17496-1778178600-1778182200@ophemert.nl
SUMMARY:Bibliotheek Ophemert
DESCRIPTION:Voor meer informatie kunt u contact opnemen met inge.dehaas@bibliotheekrivierenland.nl. Tel.: 0344 – 63 99 40
URL:https://ophemert.nl/dorpsagenda/bibliotheek-ophemert-238/
LOCATION:Foyer | Huis op Hemert\, Blankenburgsestraat 3\, Ophemert\, 4061 AR
CATEGORIES:Bibliotheek Ophemert
ORGANIZER;CN="Bibliotheek Ophemert":MAILTO:klantenservice@bibliotheekrivierenland.nl
END:VEVENT
BEGIN:VEVENT
DTSTART;TZID=Europe/Amsterdam:20260513T140000
DTEND;TZID=Europe/Amsterdam:20260513T170000
DTSTAMP:20260419T192043
CREATED:20260415T175102Z
LAST-MODIFIED:20260415T175102Z
UID:17493-1778680800-1778691600@ophemert.nl
SUMMARY:Bibliotheek Ophemert
DESCRIPTION:Voor meer informatie kunt u contact opnemen met inge.dehaas@bibliotheekrivierenland.nl. Tel.: 0344 – 63 99 40
URL:https://ophemert.nl/dorpsagenda/bibliotheek-ophemert-235/
LOCATION:Foyer | Huis op Hemert\, Blankenburgsestraat 3\, Ophemert\, 4061 AR
CATEGORIES:Bibliotheek Ophemert
ORGANIZER;CN="Bibliotheek Ophemert":MAILTO:klantenservice@bibliotheekrivierenland.nl
END:VEVENT
BEGIN:VEVENT
DTSTART;TZID=Europe/Amsterdam:20260514T183000
DTEND;TZID=Europe/Amsterdam:20260514T193000
DTSTAMP:20260419T192043
CREATED:20260415T175303Z
LAST-MODIFIED:20260415T175303Z
UID:17497-1778783400-1778787000@ophemert.nl
SUMMARY:Bibliotheek Ophemert
DESCRIPTION:Voor meer informatie kunt u contact opnemen met inge.dehaas@bibliotheekrivierenland.nl. Tel.: 0344 – 63 99 40
URL:https://ophemert.nl/dorpsagenda/bibliotheek-ophemert-239/
LOCATION:Foyer | Huis op Hemert\, Blankenburgsestraat 3\, Ophemert\, 4061 AR
CATEGORIES:Bibliotheek Ophemert
ORGANIZER;CN="Bibliotheek Ophemert":MAILTO:klantenservice@bibliotheekrivierenland.nl
END:VEVENT
END:VCALENDAR