BEGIN:VCALENDAR
VERSION:2.0
PRODID:-//Ophemert.nl - het dorpsplein van Ophemert - ECPv6.15.20//NONSGML v1.0//EN
CALSCALE:GREGORIAN
METHOD:PUBLISH
X-WR-CALNAME:Ophemert.nl - het dorpsplein van Ophemert
X-ORIGINAL-URL:https://ophemert.nl
X-WR-CALDESC:Evenementen voor Ophemert.nl - het dorpsplein van Ophemert
REFRESH-INTERVAL;VALUE=DURATION:PT1H
X-Robots-Tag:noindex
X-PUBLISHED-TTL:PT1H
BEGIN:VTIMEZONE
TZID:Europe/Amsterdam
BEGIN:DAYLIGHT
TZOFFSETFROM:+0100
TZOFFSETTO:+0200
TZNAME:CEST
DTSTART:20250330T010000
END:DAYLIGHT
BEGIN:STANDARD
TZOFFSETFROM:+0200
TZOFFSETTO:+0100
TZNAME:CET
DTSTART:20251026T010000
END:STANDARD
BEGIN:DAYLIGHT
TZOFFSETFROM:+0100
TZOFFSETTO:+0200
TZNAME:CEST
DTSTART:20260329T010000
END:DAYLIGHT
BEGIN:STANDARD
TZOFFSETFROM:+0200
TZOFFSETTO:+0100
TZNAME:CET
DTSTART:20261025T010000
END:STANDARD
BEGIN:DAYLIGHT
TZOFFSETFROM:+0100
TZOFFSETTO:+0200
TZNAME:CEST
DTSTART:20270328T010000
END:DAYLIGHT
BEGIN:STANDARD
TZOFFSETFROM:+0200
TZOFFSETTO:+0100
TZNAME:CET
DTSTART:20271031T010000
END:STANDARD
END:VTIMEZONE
BEGIN:VEVENT
DTSTART;TZID=Europe/Amsterdam:20260126T193000
DTEND;TZID=Europe/Amsterdam:20260126T203000
DTSTAMP:20260420T235157
CREATED:20260105T191514Z
LAST-MODIFIED:20260105T191514Z
UID:16541-1769455800-1769459400@ophemert.nl
SUMMARY:Badminton
DESCRIPTION:Heb je zin om mee te doen? Neem dan contact op met: alberty7@live.nl
URL:https://ophemert.nl/dorpsagenda/badminton-102/
LOCATION:Gymzaal | Huis op Hemert\, Blankenburgsestraat 3\, Ophemert\, 4061 AR
CATEGORIES:Badminton
END:VEVENT
BEGIN:VEVENT
DTSTART;TZID=Europe/Amsterdam:20260202T193000
DTEND;TZID=Europe/Amsterdam:20260202T203000
DTSTAMP:20260420T235157
CREATED:20260201T181318Z
LAST-MODIFIED:20260201T181318Z
UID:16738-1770060600-1770064200@ophemert.nl
SUMMARY:Badminton
DESCRIPTION:Heb je zin om mee te doen? Neem dan contact op met: alberty7@live.nl
URL:https://ophemert.nl/dorpsagenda/badminton-103/
LOCATION:Gymzaal | Huis op Hemert\, Blankenburgsestraat 3\, Ophemert\, 4061 AR
CATEGORIES:Badminton
END:VEVENT
BEGIN:VEVENT
DTSTART;TZID=Europe/Amsterdam:20260209T193000
DTEND;TZID=Europe/Amsterdam:20260209T203000
DTSTAMP:20260420T235157
CREATED:20260201T181318Z
LAST-MODIFIED:20260201T181318Z
UID:16739-1770665400-1770669000@ophemert.nl
SUMMARY:Badminton
DESCRIPTION:Heb je zin om mee te doen? Neem dan contact op met: alberty7@live.nl
URL:https://ophemert.nl/dorpsagenda/badminton-104/
LOCATION:Gymzaal | Huis op Hemert\, Blankenburgsestraat 3\, Ophemert\, 4061 AR
CATEGORIES:Badminton
END:VEVENT
BEGIN:VEVENT
DTSTART;TZID=Europe/Amsterdam:20260216T193000
DTEND;TZID=Europe/Amsterdam:20260216T203000
DTSTAMP:20260420T235157
CREATED:20260201T181318Z
LAST-MODIFIED:20260201T181318Z
UID:16740-1771270200-1771273800@ophemert.nl
SUMMARY:Badminton
DESCRIPTION:Heb je zin om mee te doen? Neem dan contact op met: alberty7@live.nl
URL:https://ophemert.nl/dorpsagenda/badminton-105/
LOCATION:Gymzaal | Huis op Hemert\, Blankenburgsestraat 3\, Ophemert\, 4061 AR
CATEGORIES:Badminton
END:VEVENT
BEGIN:VEVENT
DTSTART;TZID=Europe/Amsterdam:20260223T193000
DTEND;TZID=Europe/Amsterdam:20260223T203000
DTSTAMP:20260420T235157
CREATED:20260201T181318Z
LAST-MODIFIED:20260201T181318Z
UID:16741-1771875000-1771878600@ophemert.nl
SUMMARY:Badminton
DESCRIPTION:Heb je zin om mee te doen? Neem dan contact op met: alberty7@live.nl
URL:https://ophemert.nl/dorpsagenda/badminton-106/
LOCATION:Gymzaal | Huis op Hemert\, Blankenburgsestraat 3\, Ophemert\, 4061 AR
CATEGORIES:Badminton
END:VEVENT
BEGIN:VEVENT
DTSTART;TZID=Europe/Amsterdam:20260302T193000
DTEND;TZID=Europe/Amsterdam:20260302T203000
DTSTAMP:20260420T235157
CREATED:20260202T185228Z
LAST-MODIFIED:20260211T204952Z
UID:16823-1772479800-1772483400@ophemert.nl
SUMMARY:Badminton
DESCRIPTION:Heb je zin om mee te doen? Neem dan contact op met: alberty7@live.nl
URL:https://ophemert.nl/dorpsagenda/badminton-107/
LOCATION:Gymzaal | Huis op Hemert\, Blankenburgsestraat 3\, Ophemert\, 4061 AR
CATEGORIES:Badminton
END:VEVENT
BEGIN:VEVENT
DTSTART;TZID=Europe/Amsterdam:20260309T193000
DTEND;TZID=Europe/Amsterdam:20260309T203000
DTSTAMP:20260420T235157
CREATED:20260202T185228Z
LAST-MODIFIED:20260211T204952Z
UID:16824-1773084600-1773088200@ophemert.nl
SUMMARY:Badminton
DESCRIPTION:Heb je zin om mee te doen? Neem dan contact op met: alberty7@live.nl
URL:https://ophemert.nl/dorpsagenda/badminton-108/
LOCATION:Gymzaal | Huis op Hemert\, Blankenburgsestraat 3\, Ophemert\, 4061 AR
CATEGORIES:Badminton
END:VEVENT
BEGIN:VEVENT
DTSTART;TZID=Europe/Amsterdam:20260316T193000
DTEND;TZID=Europe/Amsterdam:20260316T203000
DTSTAMP:20260420T235157
CREATED:20260202T185228Z
LAST-MODIFIED:20260211T204952Z
UID:16825-1773689400-1773693000@ophemert.nl
SUMMARY:Badminton
DESCRIPTION:Heb je zin om mee te doen? Neem dan contact op met: alberty7@live.nl
URL:https://ophemert.nl/dorpsagenda/badminton-109/
LOCATION:Gymzaal | Huis op Hemert\, Blankenburgsestraat 3\, Ophemert\, 4061 AR
CATEGORIES:Badminton
END:VEVENT
BEGIN:VEVENT
DTSTART;TZID=Europe/Amsterdam:20260323T193000
DTEND;TZID=Europe/Amsterdam:20260323T203000
DTSTAMP:20260420T235157
CREATED:20260202T185228Z
LAST-MODIFIED:20260211T204952Z
UID:16826-1774294200-1774297800@ophemert.nl
SUMMARY:Badminton
DESCRIPTION:Heb je zin om mee te doen? Neem dan contact op met: alberty7@live.nl
URL:https://ophemert.nl/dorpsagenda/badminton-110/
LOCATION:Gymzaal | Huis op Hemert\, Blankenburgsestraat 3\, Ophemert\, 4061 AR
CATEGORIES:Badminton
END:VEVENT
BEGIN:VEVENT
DTSTART;TZID=Europe/Amsterdam:20260330T193000
DTEND;TZID=Europe/Amsterdam:20260330T203000
DTSTAMP:20260420T235157
CREATED:20260202T185243Z
LAST-MODIFIED:20260309T181700Z
UID:16827-1774899000-1774902600@ophemert.nl
SUMMARY:Badminton
DESCRIPTION:Heb je zin om mee te doen? Neem dan contact op met: alberty7@live.nl
URL:https://ophemert.nl/dorpsagenda/badminton-111/
LOCATION:Gymzaal | Huis op Hemert\, Blankenburgsestraat 3\, Ophemert\, 4061 AR
CATEGORIES:Badminton
END:VEVENT
BEGIN:VEVENT
DTSTART;TZID=Europe/Amsterdam:20260406T193000
DTEND;TZID=Europe/Amsterdam:20260406T203000
DTSTAMP:20260420T235157
CREATED:20260309T181644Z
LAST-MODIFIED:20260309T181644Z
UID:17233-1775503800-1775507400@ophemert.nl
SUMMARY:Badminton
DESCRIPTION:Heb je zin om mee te doen? Neem dan contact op met: alberty7@live.nl
URL:https://ophemert.nl/dorpsagenda/badminton-112/
LOCATION:Gymzaal | Huis op Hemert\, Blankenburgsestraat 3\, Ophemert\, 4061 AR
CATEGORIES:Badminton
END:VEVENT
BEGIN:VEVENT
DTSTART;TZID=Europe/Amsterdam:20260413T193000
DTEND;TZID=Europe/Amsterdam:20260413T203000
DTSTAMP:20260420T235157
CREATED:20260309T181644Z
LAST-MODIFIED:20260309T181644Z
UID:17234-1776108600-1776112200@ophemert.nl
SUMMARY:Badminton
DESCRIPTION:Heb je zin om mee te doen? Neem dan contact op met: alberty7@live.nl
URL:https://ophemert.nl/dorpsagenda/badminton-113/
LOCATION:Gymzaal | Huis op Hemert\, Blankenburgsestraat 3\, Ophemert\, 4061 AR
CATEGORIES:Badminton
END:VEVENT
BEGIN:VEVENT
DTSTART;TZID=Europe/Amsterdam:20260420T193000
DTEND;TZID=Europe/Amsterdam:20260420T203000
DTSTAMP:20260420T235157
CREATED:20260309T181644Z
LAST-MODIFIED:20260309T181644Z
UID:17235-1776713400-1776717000@ophemert.nl
SUMMARY:Badminton
DESCRIPTION:Heb je zin om mee te doen? Neem dan contact op met: alberty7@live.nl
URL:https://ophemert.nl/dorpsagenda/badminton-114/
LOCATION:Gymzaal | Huis op Hemert\, Blankenburgsestraat 3\, Ophemert\, 4061 AR
CATEGORIES:Badminton
END:VEVENT
BEGIN:VEVENT
DTSTART;TZID=Europe/Amsterdam:20260427T193000
DTEND;TZID=Europe/Amsterdam:20260427T203000
DTSTAMP:20260420T235157
CREATED:20260309T181645Z
LAST-MODIFIED:20260309T181645Z
UID:17236-1777318200-1777321800@ophemert.nl
SUMMARY:Badminton
DESCRIPTION:Heb je zin om mee te doen? Neem dan contact op met: alberty7@live.nl
URL:https://ophemert.nl/dorpsagenda/badminton-115/
LOCATION:Gymzaal | Huis op Hemert\, Blankenburgsestraat 3\, Ophemert\, 4061 AR
CATEGORIES:Badminton
END:VEVENT
BEGIN:VEVENT
DTSTART;TZID=Europe/Amsterdam:20260504T193000
DTEND;TZID=Europe/Amsterdam:20260504T203000
DTSTAMP:20260420T235157
CREATED:20260415T173243Z
LAST-MODIFIED:20260415T173243Z
UID:17446-1777923000-1777926600@ophemert.nl
SUMMARY:Badminton
DESCRIPTION:Heb je zin om mee te doen? Neem dan contact op met: alberty7@live.nl
URL:https://ophemert.nl/dorpsagenda/badminton-116/
LOCATION:Gymzaal | Huis op Hemert\, Blankenburgsestraat 3\, Ophemert\, 4061 AR
CATEGORIES:Badminton
END:VEVENT
BEGIN:VEVENT
DTSTART;TZID=Europe/Amsterdam:20260511T193000
DTEND;TZID=Europe/Amsterdam:20260511T203000
DTSTAMP:20260420T235157
CREATED:20260415T173243Z
LAST-MODIFIED:20260415T173243Z
UID:17447-1778527800-1778531400@ophemert.nl
SUMMARY:Badminton
DESCRIPTION:Heb je zin om mee te doen? Neem dan contact op met: alberty7@live.nl
URL:https://ophemert.nl/dorpsagenda/badminton-117/
LOCATION:Gymzaal | Huis op Hemert\, Blankenburgsestraat 3\, Ophemert\, 4061 AR
CATEGORIES:Badminton
END:VEVENT
BEGIN:VEVENT
DTSTART;TZID=Europe/Amsterdam:20260518T193000
DTEND;TZID=Europe/Amsterdam:20260518T203000
DTSTAMP:20260420T235157
CREATED:20260415T173244Z
LAST-MODIFIED:20260415T173244Z
UID:17448-1779132600-1779136200@ophemert.nl
SUMMARY:Badminton
DESCRIPTION:Heb je zin om mee te doen? Neem dan contact op met: alberty7@live.nl
URL:https://ophemert.nl/dorpsagenda/badminton-118/
LOCATION:Gymzaal | Huis op Hemert\, Blankenburgsestraat 3\, Ophemert\, 4061 AR
CATEGORIES:Badminton
END:VEVENT
BEGIN:VEVENT
DTSTART;TZID=Europe/Amsterdam:20260525T193000
DTEND;TZID=Europe/Amsterdam:20260525T203000
DTSTAMP:20260420T235157
CREATED:20260415T173244Z
LAST-MODIFIED:20260415T173244Z
UID:17449-1779737400-1779741000@ophemert.nl
SUMMARY:Badminton
DESCRIPTION:Heb je zin om mee te doen? Neem dan contact op met: alberty7@live.nl
URL:https://ophemert.nl/dorpsagenda/badminton-119/
LOCATION:Gymzaal | Huis op Hemert\, Blankenburgsestraat 3\, Ophemert\, 4061 AR
CATEGORIES:Badminton
END:VEVENT
END:VCALENDAR