BEGIN:VCALENDAR
VERSION:2.0
PRODID:-//Ophemert.nl - het dorpsplein van Ophemert - ECPv6.15.20//NONSGML v1.0//EN
CALSCALE:GREGORIAN
METHOD:PUBLISH
X-WR-CALNAME:Ophemert.nl - het dorpsplein van Ophemert
X-ORIGINAL-URL:https://ophemert.nl
X-WR-CALDESC:Evenementen voor Ophemert.nl - het dorpsplein van Ophemert
REFRESH-INTERVAL;VALUE=DURATION:PT1H
X-Robots-Tag:noindex
X-PUBLISHED-TTL:PT1H
BEGIN:VTIMEZONE
TZID:Europe/Amsterdam
BEGIN:DAYLIGHT
TZOFFSETFROM:+0100
TZOFFSETTO:+0200
TZNAME:CEST
DTSTART:20250330T010000
END:DAYLIGHT
BEGIN:STANDARD
TZOFFSETFROM:+0200
TZOFFSETTO:+0100
TZNAME:CET
DTSTART:20251026T010000
END:STANDARD
BEGIN:DAYLIGHT
TZOFFSETFROM:+0100
TZOFFSETTO:+0200
TZNAME:CEST
DTSTART:20260329T010000
END:DAYLIGHT
BEGIN:STANDARD
TZOFFSETFROM:+0200
TZOFFSETTO:+0100
TZNAME:CET
DTSTART:20261025T010000
END:STANDARD
BEGIN:DAYLIGHT
TZOFFSETFROM:+0100
TZOFFSETTO:+0200
TZNAME:CEST
DTSTART:20270328T010000
END:DAYLIGHT
BEGIN:STANDARD
TZOFFSETFROM:+0200
TZOFFSETTO:+0100
TZNAME:CET
DTSTART:20271031T010000
END:STANDARD
END:VTIMEZONE
BEGIN:VEVENT
DTSTART;TZID=Europe/Amsterdam:20260422T090000
DTEND;TZID=Europe/Amsterdam:20260422T100000
DTSTAMP:20260422T013849
CREATED:20260309T182256Z
LAST-MODIFIED:20260309T182256Z
UID:17284-1776848400-1776852000@ophemert.nl
SUMMARY:Meer Bewegen voor Ouderen (MBvO)
DESCRIPTION:Elke woensdagochtend van 09.00 – 10.00 uur wordt er onder begeleiding van een gediplomeerde MBvO-docent beweeglessen aangeboden. Tijdens deze lessen worden gedurende één uur allerlei beweegoefeningen gedaan met als doel het lichaam fit te houden. Kosten €37\,50 per kwartaal (prijs 2022). Ongeveer 37 lessen per jaar. Wilt u meer weten of ook meedoen? Neem dan contact op met Miranda van Leeuwen: mvanleeuwen@welzijnwestbetuwe.nl Telefoon:  0345-820960
URL:https://ophemert.nl/dorpsagenda/meer-bewegen-voor-ouderen-mbvo-111/
LOCATION:Gymzaal | Huis op Hemert\, Blankenburgsestraat 3\, Ophemert\, 4061 AR
CATEGORIES:Meer Bewegen voor Ouderen
END:VEVENT
BEGIN:VEVENT
DTSTART;TZID=Europe/Amsterdam:20260422T130000
DTEND;TZID=Europe/Amsterdam:20260422T170000
DTSTAMP:20260422T013849
CREATED:20260309T182149Z
LAST-MODIFIED:20260309T182149Z
UID:17279-1776862800-1776877200@ophemert.nl
SUMMARY:Vrije inloop HoH
DESCRIPTION:Tijdens openingstijden kunt u binnen lopen voor het ontmoeten van mensen\, voor het drinken van koffie of iets anders\, om een praatje te maken
URL:https://ophemert.nl/dorpsagenda/vrije-inloop-hoh-100/
LOCATION:Foyer | Huis op Hemert\, Blankenburgsestraat 3\, Ophemert\, 4061 AR
CATEGORIES:Vrije inloop
END:VEVENT
BEGIN:VEVENT
DTSTART;TZID=Europe/Amsterdam:20260422T140000
DTEND;TZID=Europe/Amsterdam:20260422T170000
DTSTAMP:20260422T013849
CREATED:20260309T182850Z
LAST-MODIFIED:20260309T182850Z
UID:17294-1776866400-1776877200@ophemert.nl
SUMMARY:Bibliotheek Ophemert
DESCRIPTION:Voor meer informatie kunt u contact opnemen met inge.dehaas@bibliotheekrivierenland.nl. Tel.: 0344 – 63 99 40
URL:https://ophemert.nl/dorpsagenda/bibliotheek-ophemert-227/
LOCATION:Foyer | Huis op Hemert\, Blankenburgsestraat 3\, Ophemert\, 4061 AR
CATEGORIES:Bibliotheek Ophemert
ORGANIZER;CN="Bibliotheek Ophemert":MAILTO:klantenservice@bibliotheekrivierenland.nl
END:VEVENT
BEGIN:VEVENT
DTSTART;TZID=Europe/Amsterdam:20260422T193000
DTEND;TZID=Europe/Amsterdam:20260422T213000
DTSTAMP:20260422T013849
CREATED:20260309T182740Z
LAST-MODIFIED:20260309T182740Z
UID:17289-1776886200-1776893400@ophemert.nl
SUMMARY:Euphonia repetitie
DESCRIPTION:Kun je niet wachten? Je mag altijd binnenlopen tijdens de repetitieavond. Een keer een foute noot blazen is niet erg\, het gaat vooral om het speelplezier met elkaar!
URL:https://ophemert.nl/dorpsagenda/euphonia-repetitie-112/
LOCATION:Euphonia\, Molenstraat 30\, Ophemert\, 4061 AA\, Nederland
CATEGORIES:Euphonia
ORGANIZER;CN="Euphonia":MAILTO:euphonianeerijnen@gmail.com
END:VEVENT
END:VCALENDAR